BEGIN:VCALENDAR
VERSION:2.0
PRODID:-//RAT Race Timing - ECPv6.15.20//NONSGML v1.0//EN
CALSCALE:GREGORIAN
METHOD:PUBLISH
X-ORIGINAL-URL:https://aratrace.com
X-WR-CALDESC:Events for RAT Race Timing
REFRESH-INTERVAL;VALUE=DURATION:PT1H
X-Robots-Tag:noindex
X-PUBLISHED-TTL:PT1H
BEGIN:VTIMEZONE
TZID:America/New_York
BEGIN:DAYLIGHT
TZOFFSETFROM:-0500
TZOFFSETTO:-0400
TZNAME:EDT
DTSTART:20250309T070000
END:DAYLIGHT
BEGIN:STANDARD
TZOFFSETFROM:-0400
TZOFFSETTO:-0500
TZNAME:EST
DTSTART:20251102T060000
END:STANDARD
BEGIN:DAYLIGHT
TZOFFSETFROM:-0500
TZOFFSETTO:-0400
TZNAME:EDT
DTSTART:20260308T070000
END:DAYLIGHT
BEGIN:STANDARD
TZOFFSETFROM:-0400
TZOFFSETTO:-0500
TZNAME:EST
DTSTART:20261101T060000
END:STANDARD
BEGIN:DAYLIGHT
TZOFFSETFROM:-0500
TZOFFSETTO:-0400
TZNAME:EDT
DTSTART:20270314T070000
END:DAYLIGHT
BEGIN:STANDARD
TZOFFSETFROM:-0400
TZOFFSETTO:-0500
TZNAME:EST
DTSTART:20271107T060000
END:STANDARD
BEGIN:DAYLIGHT
TZOFFSETFROM:-0500
TZOFFSETTO:-0400
TZNAME:EDT
DTSTART:20280312T070000
END:DAYLIGHT
BEGIN:STANDARD
TZOFFSETFROM:-0400
TZOFFSETTO:-0500
TZNAME:EST
DTSTART:20281105T060000
END:STANDARD
END:VTIMEZONE
BEGIN:VEVENT
DTSTART;TZID=America/New_York:20260530T080000
DTEND;TZID=America/New_York:20260530T080000
DTSTAMP:20260420T210638
CREATED:20260128T173920Z
LAST-MODIFIED:20260128T173920Z
UID:10000126-1780128000-1780128000@aratrace.com
SUMMARY:May Day River Run
DESCRIPTION:A 5K to raise money for St John’s School\, Old Saybrook.
URL:https://aratrace.com/event/may-day-river-run/
LOCATION:Fort Saybrook Monument Park\, Old Saybrook\, CT\, 06475\, United States
CATEGORIES:Road race
GEO:41.2843602;-72.3516061
END:VEVENT
BEGIN:VEVENT
DTSTART;TZID=America/New_York:20260606T100000
DTEND;TZID=America/New_York:20260606T100000
DTSTAMP:20260420T210638
CREATED:20260302T173524Z
LAST-MODIFIED:20260302T173524Z
UID:10000130-1780740000-1780740000@aratrace.com
SUMMARY:SongStrong 5K
DESCRIPTION:The Song family and SongStrong race team invite you to run or walk in the 5th SongStrong: Keep Kids Safe 5K
URL:https://aratrace.com/event/songstrong-5k-3/
LOCATION:Guilford Fairground\, 111 Lovers Lane\, Guilford\, CT\, 06437\, United States
CATEGORIES:Road race
GEO:41.2815437;-72.6730346
X-APPLE-STRUCTURED-LOCATION;VALUE=URI;X-ADDRESS=Guilford Fairground 111 Lovers Lane Guilford CT 06437 United States;X-APPLE-RADIUS=500;X-TITLE=111 Lovers Lane:geo:-72.6730346,41.2815437
END:VEVENT
BEGIN:VEVENT
DTSTART;TZID=America/New_York:20260704T073000
DTEND;TZID=America/New_York:20260704T073000
DTSTAMP:20260420T210638
CREATED:20260407T170025Z
LAST-MODIFIED:20260407T170025Z
UID:10000138-1783150200-1783150200@aratrace.com
SUMMARY:Quonnie Fourth of July 4-Mile Fun Run
DESCRIPTION:Annual Quonnie Fourth of July 4-Mile Fun Run through the local Central and East Beach roads. \nThis is a community event for residents and guests with entry capped at 225 registrations. No parking is available! Please do NOT show up on race day without first completing an online registration.
URL:https://aratrace.com/event/quonnie-fourth-of-july-4-mile-fun-run-3/
LOCATION:Quonochontaug Central Beach\, 98 Ninigret Ave\, Charlestown\, RI\, 02813\, United States
CATEGORIES:Road race
GEO:-71.851464;41.3131993
X-APPLE-STRUCTURED-LOCATION;VALUE=URI;X-ADDRESS=Quonochontaug Central Beach 98 Ninigret Ave Charlestown RI 02813 United States;X-APPLE-RADIUS=500;X-TITLE=98 Ninigret Ave:geo:41.3131993,-71.851464
END:VEVENT
BEGIN:VEVENT
DTSTART;TZID=America/New_York:20260823T070000
DTEND;TZID=America/New_York:20260823T070000
DTSTAMP:20260420T210638
CREATED:20250922T180601Z
LAST-MODIFIED:20250922T180601Z
UID:10000104-1787468400-1787468400@aratrace.com
SUMMARY:New England Green River Marathon
DESCRIPTION:The New England Green River Marathon is one of the most beautiful races in New England. Starting in Marlboro\, Vermont and following the course of the Green River through an 1870’s covered bridge\, and ending with a finish-line celebration in the shade of maple trees at Greenfield Community College in Massachusetts.
URL:https://aratrace.com/event/new-england-green-river-marathon-3/
LOCATION:Greenfield Community College\, 1 College Dr\, Greenfield\, MA\, 01301\, United States
CATEGORIES:Road race
GEO:42.5995224;-72.6308892
X-APPLE-STRUCTURED-LOCATION;VALUE=URI;X-ADDRESS=Greenfield Community College 1 College Dr Greenfield MA 01301 United States;X-APPLE-RADIUS=500;X-TITLE=1 College Dr:geo:-72.6308892,42.5995224
END:VEVENT
BEGIN:VEVENT
DTSTART;TZID=America/New_York:20260913T080000
DTEND;TZID=America/New_York:20260913T080000
DTSTAMP:20260420T210638
CREATED:20250910T133414Z
LAST-MODIFIED:20250910T133425Z
UID:10000102-1789286400-1789286400@aratrace.com
SUMMARY:East Haven Community Classic Road Race
DESCRIPTION:A flat\, fast course will pass through residential neighborhoods and the East Haven business district including by Town Hall and the historic Old Stone Church.
URL:https://aratrace.com/event/east-haven-community-classic-road-race-2/
LOCATION:East Haven Town Green\, Main St and\, Hemingway Ave\, East Haven\, CT\, 06512\, United States
CATEGORIES:Road race
GEO:41.2755746;-72.86743
X-APPLE-STRUCTURED-LOCATION;VALUE=URI;X-ADDRESS=East Haven Town Green Main St and Hemingway Ave East Haven CT 06512 United States;X-APPLE-RADIUS=500;X-TITLE=Main St and\, Hemingway Ave:geo:-72.86743,41.2755746
END:VEVENT
BEGIN:VEVENT
DTSTART;TZID=America/New_York:20260919T090000
DTEND;TZID=America/New_York:20260919T090000
DTSTAMP:20260420T210638
CREATED:20241222T221214Z
LAST-MODIFIED:20241222T221214Z
UID:10000065-1789808400-1789808400@aratrace.com
SUMMARY:Bound For The Sound
DESCRIPTION:Bound for the Sound is 5k and 10k road race in Old Lyme\, CT. Both courses start at popular Sound View Beach in Old Lyme\, CT. The 10K is mostly flat with some gently rolling hills. The 5K is very flat and very fast. Both races finish down historic Hartford Avenue facing the beach.
URL:https://aratrace.com/event/bound-for-the-sound-3/
LOCATION:Bound For The Sound\, 93 Hartford Ave\, Old Lyme\, CT\, 06371\, United States
CATEGORIES:Road race
GEO:41.2849981;-72.2777327
X-APPLE-STRUCTURED-LOCATION;VALUE=URI;X-ADDRESS=Bound For The Sound 93 Hartford Ave Old Lyme CT 06371 United States;X-APPLE-RADIUS=500;X-TITLE=93 Hartford Ave:geo:-72.2777327,41.2849981
END:VEVENT
BEGIN:VEVENT
DTSTART;TZID=America/New_York:20260920T093000
DTEND;TZID=America/New_York:20260920T093000
DTSTAMP:20260420T210638
CREATED:20260331T141053Z
LAST-MODIFIED:20260331T141053Z
UID:10000137-1789896600-1789896600@aratrace.com
SUMMARY:Summit Run 5K
DESCRIPTION:A 5K like no other. The first mile is a slight incline that will take you through the Hockanum Village and its historic homes with bucolic scenery. After that the course turns onto the dirt section of Old Mountain Road before things get even more scenic\, and steeper as you climb 800 feet on the paved road to the summit finish line at the top of Mt. Holyoke.
URL:https://aratrace.com/event/summit-run-5k-3/
LOCATION:Skinner State Park\, 10 Skinner State Park Rd\, Hadley\, MA\, 01035\, United States
CATEGORIES:Road race
GEO:42.300505;-72.587695
X-APPLE-STRUCTURED-LOCATION;VALUE=URI;X-ADDRESS=Skinner State Park 10 Skinner State Park Rd Hadley MA 01035 United States;X-APPLE-RADIUS=500;X-TITLE=10 Skinner State Park Rd:geo:-72.587695,42.300505
END:VEVENT
BEGIN:VEVENT
DTSTART;TZID=America/New_York:20261004T090000
DTEND;TZID=America/New_York:20261004T090000
DTSTAMP:20260420T210638
CREATED:20251021T141803Z
LAST-MODIFIED:20251021T141809Z
UID:10000105-1791104400-1791104400@aratrace.com
SUMMARY:Fishbein / YMCA Community Road Race
DESCRIPTION:Almost 50 years ago\, Johanna Manfreda Fishbein started a tradition in Wallingford that would grow and change significantly over the years\, bringing organizations throughout the town together to collaborate in an effort to support residents in need. \nThe Wallingford Family YMCA is proud to continue this tradition as host of the annual Fishbein/YMCA Community Road Race in collaboration with Celebrate Wallingford.
URL:https://aratrace.com/event/fishbein-ymca-community-road-race-3/
LOCATION:Wallingford Family YMCA\,\, 81 South Elm Street\,\, Wallingforfd\, CT\, 06492\, United States
CATEGORIES:Road race
GEO:41.4510332;-72.817285
X-APPLE-STRUCTURED-LOCATION;VALUE=URI;X-ADDRESS=Wallingford Family YMCA 81 South Elm Street Wallingforfd CT 06492 United States;X-APPLE-RADIUS=500;X-TITLE=81 South Elm Street\,:geo:-72.817285,41.4510332
END:VEVENT
BEGIN:VEVENT
DTSTART;TZID=America/New_York:20261025T090000
DTEND;TZID=America/New_York:20261025T090000
DTSTAMP:20260420T210638
CREATED:20260113T024054Z
LAST-MODIFIED:20260113T024054Z
UID:10000123-1792918800-1792918800@aratrace.com
SUMMARY:Run The Runway 5K
DESCRIPTION:Run The Runway 5k and Kids Fun Run at the Meriden Markham Airport\, is a unique opportunity to run\, jog\, and walk on the runway! The 5K race route will begin on the Meriden Markham Runway and venture out into the beautiful South Meriden neighborhood\, before safely landing back on the runway for what will be a fantastic finish!
URL:https://aratrace.com/event/run-the-runway-5k/
LOCATION:Meriden Markham Airport\, 213 Evansville Ave\, Meriden\, 06451\, United States
CATEGORIES:Road race
END:VEVENT
BEGIN:VEVENT
DTSTART;TZID=America/New_York:20261126T074500
DTEND;TZID=America/New_York:20261126T074500
DTSTAMP:20260420T210638
CREATED:20260113T024341Z
LAST-MODIFIED:20260113T024341Z
UID:10000125-1795679100-1795679100@aratrace.com
SUMMARY:Newtown Turkey Trot
DESCRIPTION:The Newtown Turkey Trot benefits the C. H. Booth Library. The event offers the opportunity to kick off your Thanksgiving Day celebrations by participating in a 5K run / walk or 2.5K (1.6 mile) fitness walk. This community event has annually attracted over 1200 participants in recent years and will start and finish from Newtown Middle School (11 Queen Street\, Newtown) following the routes introduced in 2019.
URL:https://aratrace.com/event/newtown-turkey-trot-3/
LOCATION:Newtown Middle School\, 11 Queen Street\, Newtown\, CT\, 06470\, United States
CATEGORIES:Road race
GEO:41.4114891;-73.2990638
X-APPLE-STRUCTURED-LOCATION;VALUE=URI;X-ADDRESS=Newtown Middle School 11 Queen Street Newtown CT 06470 United States;X-APPLE-RADIUS=500;X-TITLE=11 Queen Street:geo:-73.2990638,41.4114891
END:VEVENT
BEGIN:VEVENT
DTSTART;TZID=America/New_York:20270313T100000
DTEND;TZID=America/New_York:20270313T100000
DTSTAMP:20260420T210638
CREATED:20260408T185759Z
LAST-MODIFIED:20260408T185759Z
UID:10000139-1804932000-1804932000@aratrace.com
SUMMARY:Catch A Leprechaun 5K
DESCRIPTION:Celebrate St Patrick’s Day and try to Catch A Leprechaun in support of the Region 4 Education Foundation. The race route follows a 5K course around the town of Essex
URL:https://aratrace.com/event/catch-a-leprechaun-5k-4/
LOCATION:Essex Town Hall\, 29 West Avenue\, Essex\, CT\, 06426\, United States
CATEGORIES:Road race
GEO:41.3540809;-72.3957615
X-APPLE-STRUCTURED-LOCATION;VALUE=URI;X-ADDRESS=Essex Town Hall 29 West Avenue Essex CT 06426 United States;X-APPLE-RADIUS=500;X-TITLE=29 West Avenue:geo:-72.3957615,41.3540809
END:VEVENT
END:VCALENDAR