BEGIN:VCALENDAR
VERSION:2.0
PRODID:-//RAT Race Timing - ECPv6.15.20//NONSGML v1.0//EN
CALSCALE:GREGORIAN
METHOD:PUBLISH
X-ORIGINAL-URL:https://aratrace.com
X-WR-CALDESC:Events for RAT Race Timing
REFRESH-INTERVAL;VALUE=DURATION:PT1H
X-Robots-Tag:noindex
X-PUBLISHED-TTL:PT1H
BEGIN:VTIMEZONE
TZID:America/New_York
BEGIN:DAYLIGHT
TZOFFSETFROM:-0500
TZOFFSETTO:-0400
TZNAME:EDT
DTSTART:20250309T070000
END:DAYLIGHT
BEGIN:STANDARD
TZOFFSETFROM:-0400
TZOFFSETTO:-0500
TZNAME:EST
DTSTART:20251102T060000
END:STANDARD
BEGIN:DAYLIGHT
TZOFFSETFROM:-0500
TZOFFSETTO:-0400
TZNAME:EDT
DTSTART:20260308T070000
END:DAYLIGHT
BEGIN:STANDARD
TZOFFSETFROM:-0400
TZOFFSETTO:-0500
TZNAME:EST
DTSTART:20261101T060000
END:STANDARD
BEGIN:DAYLIGHT
TZOFFSETFROM:-0500
TZOFFSETTO:-0400
TZNAME:EDT
DTSTART:20270314T070000
END:DAYLIGHT
BEGIN:STANDARD
TZOFFSETFROM:-0400
TZOFFSETTO:-0500
TZNAME:EST
DTSTART:20271107T060000
END:STANDARD
END:VTIMEZONE
BEGIN:VEVENT
DTSTART;TZID=America/New_York:20260613T080000
DTEND;TZID=America/New_York:20260613T080000
DTSTAMP:20260419T092928
CREATED:20251122T183725Z
LAST-MODIFIED:20251122T183725Z
UID:10000114-1781337600-1781337600@aratrace.com
SUMMARY:Norbrook Farm Trail Festival
DESCRIPTION:Simply put\, the Norbrook Farm Brewery is an amazing place for an adventure!  They have a variety of trails for both runners and mountain bikers\, so why not have an awesome trail festival with events all day long\, great offerings from a local food truck\, and plenty of chances to hydrate with Norbrook’s award winning beer.  It’s going to be a day you’ll never forget!
URL:https://aratrace.com/event/norbrook-farm-trail-festival-3/
LOCATION:Norbrook Farm Brewery\, 204 Stillman Hill Rd\, Colebrook\, CT\, 06098\, United States
CATEGORIES:Mountain Bike,Trail Race
GEO:41.988655;-73.1395886
X-APPLE-STRUCTURED-LOCATION;VALUE=URI;X-ADDRESS=Norbrook Farm Brewery 204 Stillman Hill Rd Colebrook CT 06098 United States;X-APPLE-RADIUS=500;X-TITLE=204 Stillman Hill Rd:geo:-73.1395886,41.988655
END:VEVENT
BEGIN:VEVENT
DTSTART;TZID=America/New_York:20260614T090000
DTEND;TZID=America/New_York:20260614T090000
DTSTAMP:20260419T092928
CREATED:20260112T200809Z
LAST-MODIFIED:20260112T200809Z
UID:10000118-1781427600-1781427600@aratrace.com
SUMMARY:Nipmuck South Trail Races
DESCRIPTION:The races are out-and-back on the Nipmuck covering a distances of either15 miles or 5K\, following the lovely Fenton River for much of the course. The trail has some interesting variations over beautiful terrain\, with several small bridge crossings\, a climb to a 50 ft cliff\, fields\, and woods. Both races starts at Mansfield Hollow State Park and winds its way to Old Turnpike Road (off Route 44).
URL:https://aratrace.com/event/nipmuck-south-trail-races/
LOCATION:Mansfield Hollow State Park\, 151 Bassetts Bridge Road\, Mansfield\, CT\, 06250\, United States
CATEGORIES:Trail Race
GEO:41.5367586;-73.0734059
X-APPLE-STRUCTURED-LOCATION;VALUE=URI;X-ADDRESS=Mansfield Hollow State Park 151 Bassetts Bridge Road Mansfield CT 06250 United States;X-APPLE-RADIUS=500;X-TITLE=151 Bassetts Bridge Road:geo:-73.0734059,41.5367586
END:VEVENT
END:VCALENDAR