BEGIN:VCALENDAR
VERSION:2.0
PRODID:-//RAT Race Timing - ECPv6.15.20//NONSGML v1.0//EN
CALSCALE:GREGORIAN
METHOD:PUBLISH
X-ORIGINAL-URL:https://aratrace.com
X-WR-CALDESC:Events for RAT Race Timing
REFRESH-INTERVAL;VALUE=DURATION:PT1H
X-Robots-Tag:noindex
X-PUBLISHED-TTL:PT1H
BEGIN:VTIMEZONE
TZID:America/New_York
BEGIN:DAYLIGHT
TZOFFSETFROM:-0500
TZOFFSETTO:-0400
TZNAME:EDT
DTSTART:20250309T070000
END:DAYLIGHT
BEGIN:STANDARD
TZOFFSETFROM:-0400
TZOFFSETTO:-0500
TZNAME:EST
DTSTART:20251102T060000
END:STANDARD
BEGIN:DAYLIGHT
TZOFFSETFROM:-0500
TZOFFSETTO:-0400
TZNAME:EDT
DTSTART:20260308T070000
END:DAYLIGHT
BEGIN:STANDARD
TZOFFSETFROM:-0400
TZOFFSETTO:-0500
TZNAME:EST
DTSTART:20261101T060000
END:STANDARD
BEGIN:DAYLIGHT
TZOFFSETFROM:-0500
TZOFFSETTO:-0400
TZNAME:EDT
DTSTART:20270314T070000
END:DAYLIGHT
BEGIN:STANDARD
TZOFFSETFROM:-0400
TZOFFSETTO:-0500
TZNAME:EST
DTSTART:20271107T060000
END:STANDARD
END:VTIMEZONE
BEGIN:VEVENT
DTSTART;TZID=America/New_York:20261004T093000
DTEND;TZID=America/New_York:20261004T093000
DTSTAMP:20260423T065643
CREATED:20251021T141842Z
LAST-MODIFIED:20251021T141842Z
UID:10000106-1791106200-1791106200@aratrace.com
SUMMARY:Norfolk Land Trust Trail Race Series/Haystack Mountain Challenge
DESCRIPTION:CLASSIC 5K\nA challenging and scenic race through picturesque Barbour Woods. The course is a mixture of single and double track. Climb up Beech Hill for a view of Haystack Mountain\, run on carriage roads beside historic Killarney Bridge\, descend down the dry dam to a flat stretch of railroad bed\, ascend through woodlands and finally along a gladed wetland\, known as the Swamp Trail to the finish.\nNote: This course usually measures at about 3.3mi. \nHAYSTACK 10K\nWant to go a little longer? Try adding a challenging loop over Haystack Mountain. This course begins on the same route as the 5K\, but jumps off of the Sunset Trail onto the South Dam\, crosses Route 272N and ascends through a grassy meadow onto an intense single track to summit at Norfolk’s iconic Haystack Mountain Tower. Descend down the mountainside on a carriage path to meet up with a single track winding along the mountainside bringing you back to the park’s main entrance where you will cross over the South Dam and finish up the 5k course.\nNote: This course usually measures at about 5.9mi. \nHAYSTACK MOUNTAIN CHALLENGE HALF MARATHON\nThe Haystack Challenge is an exciting and grueling half marathon. With 2000+ feet of elevation gain this course is built around the 10k route with the addition of some lesser-known trails adjacent to Barbour Woods and Haystack Mountain; including special access to private paths only allowed during the event.\nThe course includes a run along scenic ascent and a descent down a winding single track back to the start. From there you follow the 10k course to Haystack and break off onto public and private trails. Two trips up and down Haystack link you back into the 10k course to the finish.
URL:https://aratrace.com/event/norfolk-land-trust-trail-race-series-haystack-mountain-challenge-3/
LOCATION:Norfolk Land Trust Preserve\, 75 Lovers Lane Norfolk\, Norfolk\, CT\, 06058\, United States
CATEGORIES:Trail Race
GEO:42.0001774;-73.1947436
X-APPLE-STRUCTURED-LOCATION;VALUE=URI;X-ADDRESS=Norfolk Land Trust Preserve 75 Lovers Lane Norfolk Norfolk CT 06058 United States;X-APPLE-RADIUS=500;X-TITLE=75 Lovers Lane Norfolk:geo:-73.1947436,42.0001774
END:VEVENT
END:VCALENDAR