BEGIN:VCALENDAR
VERSION:2.0
PRODID:-//RAT Race Timing - ECPv6.15.20//NONSGML v1.0//EN
CALSCALE:GREGORIAN
METHOD:PUBLISH
X-ORIGINAL-URL:https://aratrace.com
X-WR-CALDESC:Events for RAT Race Timing
REFRESH-INTERVAL;VALUE=DURATION:PT1H
X-Robots-Tag:noindex
X-PUBLISHED-TTL:PT1H
BEGIN:VTIMEZONE
TZID:America/New_York
BEGIN:DAYLIGHT
TZOFFSETFROM:-0500
TZOFFSETTO:-0400
TZNAME:EDT
DTSTART:20230312T070000
END:DAYLIGHT
BEGIN:STANDARD
TZOFFSETFROM:-0400
TZOFFSETTO:-0500
TZNAME:EST
DTSTART:20231105T060000
END:STANDARD
BEGIN:DAYLIGHT
TZOFFSETFROM:-0500
TZOFFSETTO:-0400
TZNAME:EDT
DTSTART:20240310T070000
END:DAYLIGHT
BEGIN:STANDARD
TZOFFSETFROM:-0400
TZOFFSETTO:-0500
TZNAME:EST
DTSTART:20241103T060000
END:STANDARD
BEGIN:DAYLIGHT
TZOFFSETFROM:-0500
TZOFFSETTO:-0400
TZNAME:EDT
DTSTART:20250309T070000
END:DAYLIGHT
BEGIN:STANDARD
TZOFFSETFROM:-0400
TZOFFSETTO:-0500
TZNAME:EST
DTSTART:20251102T060000
END:STANDARD
END:VTIMEZONE
BEGIN:VEVENT
DTSTART;TZID=America/New_York:20241006T090000
DTEND;TZID=America/New_York:20241006T090000
DTSTAMP:20260420T065016
CREATED:20240323T210138Z
LAST-MODIFIED:20240930T154136Z
UID:10000021-1728205200-1728205200@aratrace.com
SUMMARY:Fishbein / YMCA Community Road Race
DESCRIPTION:Almost 50 years ago\, Johanna Manfreda Fishbein started a tradition in Wallingford that would grow and change significantly over the years\, bringing organizations throughout the town together to collaborate in an effort to support residents in need. \nThe Wallingford Family YMCA is proud to continue this tradition as host of the annual Fishbein/YMCA Community Road Race in collaboration with Celebrate Wallingford.
URL:https://aratrace.com/event/fishbein-ymca-community-road-race/
LOCATION:Wallingford Family YMCA\,\, 81 South Elm Street\,\, Wallingforfd\, CT\, 06492\, United States
CATEGORIES:Road race
GEO:41.4510332;-72.817285
X-APPLE-STRUCTURED-LOCATION;VALUE=URI;X-ADDRESS=Wallingford Family YMCA 81 South Elm Street Wallingforfd CT 06492 United States;X-APPLE-RADIUS=500;X-TITLE=81 South Elm Street\,:geo:-72.817285,41.4510332
END:VEVENT
BEGIN:VEVENT
DTSTART;TZID=America/New_York:20241006T093000
DTEND;TZID=America/New_York:20241006T093000
DTSTAMP:20260420T065016
CREATED:20240323T210744Z
LAST-MODIFIED:20240323T211232Z
UID:10000022-1728207000-1728207000@aratrace.com
SUMMARY:Norfolk Land Trust Trail Race Series/Haystack Mountain Challenge
DESCRIPTION:CLASSIC 5K\nA challenging and scenic race through picturesque Barbour Woods. The course is a mixture of single and double track. Climb up Beech Hill for a view of Haystack Mountain\, run on carriage roads beside historic Killarney Bridge\, descend down the dry dam to a flat stretch of railroad bed\, ascend through woodlands and finally along a gladed wetland\, known as the Swamp Trail to the finish.\nNote: This course usually measures at about 3.3mi. \nHAYSTACK 10K\nWant to go a little longer? Try adding a challenging loop over Haystack Mountain. This course begins on the same route as the 5K\, but jumps off of the Sunset Trail onto the South Dam\, crosses Route 272N and ascends through a grassy meadow onto an intense single track to summit at Norfolk’s iconic Haystack Mountain Tower. Descend down the mountainside on a carriage path to meet up with a single track winding along the mountainside bringing you back to the park’s main entrance where you will cross over the South Dam and finish up the 5k course.\nNote: This course usually measures at about 5.9mi. \nHAYSTACK MOUNTAIN CHALLENGE HALF MARATHON\nThe Haystack Challenge is an exciting and grueling half marathon. With 2000+ feet of elevation gain this course is built around the 10k route with the addition of some lesser-known trails adjacent to Barbour Woods and Haystack Mountain; including special access to private paths only allowed during the event.\nThe course includes a run along scenic ascent and a descent down a winding single track back to the start. From there you follow the 10k course to Haystack and break off onto public and private trails. Two trips up and down Haystack link you back into the 10k course to the finish.
URL:https://aratrace.com/event/norfolk-land-trust-trail-race-series-haystack-mountain-challenge/
LOCATION:Norfolk Land Trust Preserve\, 75 Lovers Lane Norfolk\, Norfolk\, CT\, 06058\, United States
CATEGORIES:Trail Race
GEO:42.0001774;-73.1947436
X-APPLE-STRUCTURED-LOCATION;VALUE=URI;X-ADDRESS=Norfolk Land Trust Preserve 75 Lovers Lane Norfolk Norfolk CT 06058 United States;X-APPLE-RADIUS=500;X-TITLE=75 Lovers Lane Norfolk:geo:-73.1947436,42.0001774
END:VEVENT
BEGIN:VEVENT
DTSTART;TZID=America/New_York:20241012T110000
DTEND;TZID=America/New_York:20241012T110000
DTSTAMP:20260420T065016
CREATED:20240722T155727Z
LAST-MODIFIED:20240722T155727Z
UID:10000043-1728730800-1728730800@aratrace.com
SUMMARY:UConn Autumn Invitational
DESCRIPTION:Hosted by UConn Club Running
URL:https://aratrace.com/event/uconn-autumn-invitational/
LOCATION:Mansfield Hollow State Park\, 151 Bassetts Bridge Road\, Mansfield\, CT\, 06250\, United States
CATEGORIES:Cross Country
GEO:41.5367586;-73.0734059
X-APPLE-STRUCTURED-LOCATION;VALUE=URI;X-ADDRESS=Mansfield Hollow State Park 151 Bassetts Bridge Road Mansfield CT 06250 United States;X-APPLE-RADIUS=500;X-TITLE=151 Bassetts Bridge Road:geo:-73.0734059,41.5367586
END:VEVENT
BEGIN:VEVENT
DTSTART;TZID=America/New_York:20241019T090000
DTEND;TZID=America/New_York:20241019T090000
DTSTAMP:20260420T065016
CREATED:20240501T123554Z
LAST-MODIFIED:20240501T123727Z
UID:10000034-1729328400-1729328400@aratrace.com
SUMMARY:Ivoryton Pumpkin Chase
DESCRIPTION:The Ivoryton Pumpkin Chase is a 5K Road/Trail Race and a Kiddie Pumpkin Fun Run to benefit the Ivoryton Library and takes place in peak foliage season of southern New England. The course begins along North Main Street for approximately ½ mile before turning left down Falls River Drive. At the one mile mark the course enters the Falls River Preserve for a 1.1 mile trail loop that meanders along the Falls River.
URL:https://aratrace.com/event/ivoryton-pumpkin-chase/
LOCATION:Ivoryton Library\, 106 Main St\, Ivoryton\, CT\, 06442\, United States
CATEGORIES:Road/Trail Hybrid
GEO:41.3482498;-72.4409658
X-APPLE-STRUCTURED-LOCATION;VALUE=URI;X-ADDRESS=Ivoryton Library 106 Main St Ivoryton CT 06442 United States;X-APPLE-RADIUS=500;X-TITLE=106 Main St:geo:-72.4409658,41.3482498
END:VEVENT
BEGIN:VEVENT
DTSTART;TZID=America/New_York:20241020T080000
DTEND;TZID=America/New_York:20241020T080000
DTSTAMP:20260420T065016
CREATED:20240416T145142Z
LAST-MODIFIED:20240416T145142Z
UID:10000032-1729411200-1729411200@aratrace.com
SUMMARY:Bimblers Bluff 5K
DESCRIPTION:The Bimblers Bluff 50k is an off road foot race that starts at Guilford Lakes School\, 40 Maupas Rd\, Guilford and passes through several inter-connected woodland preserves in southern Connecticut. Consisting entirely of rolling forest roads or single track that can be extremely rocky\, the course will provide a true test of the runner’s fitness and mental stamina. The course is unusual for an event of this type in Connecticut as it doesn’t require participants complete the same loop multiple times. It’s intended to be both an adventure and a challenge and you should only consider entering this race if you are confident you have sufficient running experience such as having completed a recent road or trail marathon. If you have any questions or concerns about your ability to complete this race but would still like to enter\, please contact the race director.
URL:https://aratrace.com/event/bimblers-bluff-5k/
LOCATION:Guilford Lakes Elementary School\, 40 Maupas Rd\, Guilford\, CT\, 06437\, United States
CATEGORIES:Trail Race
GEO:41.3283667;-72.688796
X-APPLE-STRUCTURED-LOCATION;VALUE=URI;X-ADDRESS=Guilford Lakes Elementary School 40 Maupas Rd Guilford CT 06437 United States;X-APPLE-RADIUS=500;X-TITLE=40 Maupas Rd:geo:-72.688796,41.3283667
END:VEVENT
BEGIN:VEVENT
DTSTART;TZID=America/New_York:20241026T100000
DTEND;TZID=America/New_York:20241026T100000
DTSTAMP:20260420T065016
CREATED:20240327T142838Z
LAST-MODIFIED:20240429T142308Z
UID:10000028-1729936800-1729936800@aratrace.com
SUMMARY:Chasing the Legend; Easton's Lady in White 5K Run/Walk
DESCRIPTION:The annual Easton’s Lady in White 5K takes place from Christs Church in Easton\, CT. Runners will enjoy a beautiful course on North Park Avenue in Easton while enjoying the fall foliage and learning historic facts along the way! On site\, there will be various fall activities for kids and adults and a fun run and shuttle run for kids 12& under so please bring the family! Costumes encouraged!
URL:https://aratrace.com/event/chasing-the-legend-eastons-lady-in-white-5k-run-walk/
LOCATION:Christs Church\, 59 Church Rd\, Easton\, CT\, 06612\, United States
CATEGORIES:Road race
GEO:41.2749872;-73.2935796
X-APPLE-STRUCTURED-LOCATION;VALUE=URI;X-ADDRESS=Christs Church 59 Church Rd Easton CT 06612 United States;X-APPLE-RADIUS=500;X-TITLE=59 Church Rd:geo:-73.2935796,41.2749872
END:VEVENT
BEGIN:VEVENT
DTSTART;TZID=America/New_York:20241026T110000
DTEND;TZID=America/New_York:20241026T110000
DTSTAMP:20260420T065016
CREATED:20240618T133418Z
LAST-MODIFIED:20240618T133418Z
UID:10000040-1729940400-1729940400@aratrace.com
SUMMARY:Lebanon Lions Halloween 5K
DESCRIPTION:The Lebanon Lions Halloween 5K is a Strides Event to promote positivity and exercise to open the door to diabetes awareness and promote the importance of regular physical activity in the management of type 1 and type 2 diabetes.
URL:https://aratrace.com/event/lebanon-lions-halloween-5k/
LOCATION:Lebanon Country Fair\, 122 Mack Road\, Lebanon\, CT\, 06249\, United States
CATEGORIES:Road race
GEO:41.6403922;-72.2355187
X-APPLE-STRUCTURED-LOCATION;VALUE=URI;X-ADDRESS=Lebanon Country Fair 122 Mack Road Lebanon CT 06249 United States;X-APPLE-RADIUS=500;X-TITLE=122 Mack Road:geo:-72.2355187,41.6403922
END:VEVENT
BEGIN:VEVENT
DTSTART;TZID=America/New_York:20241027T090000
DTEND;TZID=America/New_York:20241027T090000
DTSTAMP:20260420T065016
CREATED:20240323T211914Z
LAST-MODIFIED:20240323T211914Z
UID:10000023-1730019600-1730019600@aratrace.com
SUMMARY:Black Dog Road Race
DESCRIPTION:The Legend of the Hanging Hills Black Dog has been around for over 100 years. A mysterious black dog that has been spotted countless times and is said to bring good luck\, bad luck\, and even death! The Black Dog awaits
URL:https://aratrace.com/event/black-dog-road-race/
LOCATION:Hubbard Park\, 999 West Main St\, Meriden\, CT\, 06451\, United States
CATEGORIES:Road race
GEO:41.5481229;-72.8410469
X-APPLE-STRUCTURED-LOCATION;VALUE=URI;X-ADDRESS=Hubbard Park 999 West Main St Meriden CT 06451 United States;X-APPLE-RADIUS=500;X-TITLE=999 West Main St:geo:-72.8410469,41.5481229
END:VEVENT
END:VCALENDAR