BEGIN:VCALENDAR
VERSION:2.0
PRODID:-//RAT Race Timing - ECPv6.15.20//NONSGML v1.0//EN
CALSCALE:GREGORIAN
METHOD:PUBLISH
X-WR-CALNAME:RAT Race Timing
X-ORIGINAL-URL:https://aratrace.com
X-WR-CALDESC:Events for RAT Race Timing
REFRESH-INTERVAL;VALUE=DURATION:PT1H
X-Robots-Tag:noindex
X-PUBLISHED-TTL:PT1H
BEGIN:VTIMEZONE
TZID:America/New_York
BEGIN:DAYLIGHT
TZOFFSETFROM:-0500
TZOFFSETTO:-0400
TZNAME:EDT
DTSTART:20230312T070000
END:DAYLIGHT
BEGIN:STANDARD
TZOFFSETFROM:-0400
TZOFFSETTO:-0500
TZNAME:EST
DTSTART:20231105T060000
END:STANDARD
BEGIN:DAYLIGHT
TZOFFSETFROM:-0500
TZOFFSETTO:-0400
TZNAME:EDT
DTSTART:20240310T070000
END:DAYLIGHT
BEGIN:STANDARD
TZOFFSETFROM:-0400
TZOFFSETTO:-0500
TZNAME:EST
DTSTART:20241103T060000
END:STANDARD
BEGIN:DAYLIGHT
TZOFFSETFROM:-0500
TZOFFSETTO:-0400
TZNAME:EDT
DTSTART:20250309T070000
END:DAYLIGHT
BEGIN:STANDARD
TZOFFSETFROM:-0400
TZOFFSETTO:-0500
TZNAME:EST
DTSTART:20251102T060000
END:STANDARD
END:VTIMEZONE
BEGIN:VEVENT
DTSTART;TZID=America/New_York:20241109T093000
DTEND;TZID=America/New_York:20241109T093000
DTSTAMP:20260420T043125
CREATED:20240806T162628Z
LAST-MODIFIED:20240806T162628Z
UID:10000044-1731144600-1731144600@aratrace.com
SUMMARY:Robert J. Lynes Memorial Road Race
DESCRIPTION:The Robert J. Lynes Memorial Road Race is a 5K run/walk race with a kids Fun Run just before. It is being held in memory of Bobby Lynes who was a lifelong resident of Meriden.
URL:https://aratrace.com/event/robert-j-lynes-memorial-road-race/
LOCATION:Hubbard Park\, 999 West Main St\, Meriden\, CT\, 06451\, United States
CATEGORIES:Road race
GEO:41.5481229;-72.8410469
X-APPLE-STRUCTURED-LOCATION;VALUE=URI;X-ADDRESS=Hubbard Park 999 West Main St Meriden CT 06451 United States;X-APPLE-RADIUS=500;X-TITLE=999 West Main St:geo:-72.8410469,41.5481229
END:VEVENT
BEGIN:VEVENT
DTSTART;TZID=America/New_York:20241123T080000
DTEND;TZID=America/New_York:20241123T080000
DTSTAMP:20260420T043125
CREATED:20240325T221716Z
LAST-MODIFIED:20240326T015934Z
UID:10000025-1732348800-1732348800@aratrace.com
SUMMARY:Fall Fling 400
DESCRIPTION:Run as many loops as you’d like of a roughly two-mile trail course as long as you’re done within 400 minutes (six hours 40 minutes). You’re not required to run an ultra distance — at least 28 miles (or 14 loops) — although many people will. Whether you want to try your first trail race\, or go for an ultra distance\, this event is for you.
URL:https://aratrace.com/event/fall-fling-400/
LOCATION:Camp Sloper\, 1000 East St\, Southington\, CT\, 06489\, United States
CATEGORIES:Trail Race
GEO:41.587331;-72.841785
X-APPLE-STRUCTURED-LOCATION;VALUE=URI;X-ADDRESS=Camp Sloper 1000 East St Southington CT 06489 United States;X-APPLE-RADIUS=500;X-TITLE=1000 East St:geo:-72.841785,41.587331
END:VEVENT
BEGIN:VEVENT
DTSTART;TZID=America/New_York:20241128T074500
DTEND;TZID=America/New_York:20241128T074500
DTSTAMP:20260420T043125
CREATED:20240326T211406Z
LAST-MODIFIED:20240326T211522Z
UID:10000026-1732779900-1732779900@aratrace.com
SUMMARY:Newtown Turkey Trot
DESCRIPTION:The Newtown Turkey Trot benefits the C. H. Booth Library. The event offers the opportunity to kick off your Thanksgiving Day celebrations by participating in a 5K run / walk or 2.5K (1.6 mile) fitness walk. This community event has annually attracted over 1200 participants in recent years and will start and finish from Newtown Middle School (11 Queen Street\, Newtown) following the routes introduced in 2019.
URL:https://aratrace.com/event/newtown-turkey-trot/
LOCATION:Newtown Middle School\, 11 Queen Street\, Newtown\, CT\, 06470\, United States
CATEGORIES:Road race
GEO:41.4114891;-73.2990638
X-APPLE-STRUCTURED-LOCATION;VALUE=URI;X-ADDRESS=Newtown Middle School 11 Queen Street Newtown CT 06470 United States;X-APPLE-RADIUS=500;X-TITLE=11 Queen Street:geo:-73.2990638,41.4114891
END:VEVENT
END:VCALENDAR