BEGIN:VCALENDAR
VERSION:2.0
PRODID:-//RAT Race Timing - ECPv6.15.20//NONSGML v1.0//EN
CALSCALE:GREGORIAN
METHOD:PUBLISH
X-WR-CALNAME:RAT Race Timing
X-ORIGINAL-URL:https://aratrace.com
X-WR-CALDESC:Events for RAT Race Timing
REFRESH-INTERVAL;VALUE=DURATION:PT1H
X-Robots-Tag:noindex
X-PUBLISHED-TTL:PT1H
BEGIN:VTIMEZONE
TZID:America/New_York
BEGIN:DAYLIGHT
TZOFFSETFROM:-0500
TZOFFSETTO:-0400
TZNAME:EDT
DTSTART:20250309T070000
END:DAYLIGHT
BEGIN:STANDARD
TZOFFSETFROM:-0400
TZOFFSETTO:-0500
TZNAME:EST
DTSTART:20251102T060000
END:STANDARD
BEGIN:DAYLIGHT
TZOFFSETFROM:-0500
TZOFFSETTO:-0400
TZNAME:EDT
DTSTART:20260308T070000
END:DAYLIGHT
BEGIN:STANDARD
TZOFFSETFROM:-0400
TZOFFSETTO:-0500
TZNAME:EST
DTSTART:20261101T060000
END:STANDARD
BEGIN:DAYLIGHT
TZOFFSETFROM:-0500
TZOFFSETTO:-0400
TZNAME:EDT
DTSTART:20270314T070000
END:DAYLIGHT
BEGIN:STANDARD
TZOFFSETFROM:-0400
TZOFFSETTO:-0500
TZNAME:EST
DTSTART:20271107T060000
END:STANDARD
END:VTIMEZONE
BEGIN:VEVENT
DTSTART;TZID=America/New_York:20260704T073000
DTEND;TZID=America/New_York:20260704T073000
DTSTAMP:20260422T055601
CREATED:20260407T170025Z
LAST-MODIFIED:20260407T170025Z
UID:10000138-1783150200-1783150200@aratrace.com
SUMMARY:Quonnie Fourth of July 4-Mile Fun Run
DESCRIPTION:Annual Quonnie Fourth of July 4-Mile Fun Run through the local Central and East Beach roads. \nThis is a community event for residents and guests with entry capped at 225 registrations. No parking is available! Please do NOT show up on race day without first completing an online registration.
URL:https://aratrace.com/event/quonnie-fourth-of-july-4-mile-fun-run-3/
LOCATION:Quonochontaug Central Beach\, 98 Ninigret Ave\, Charlestown\, RI\, 02813\, United States
CATEGORIES:Road race
GEO:-71.851464;41.3131993
X-APPLE-STRUCTURED-LOCATION;VALUE=URI;X-ADDRESS=Quonochontaug Central Beach 98 Ninigret Ave Charlestown RI 02813 United States;X-APPLE-RADIUS=500;X-TITLE=98 Ninigret Ave:geo:41.3131993,-71.851464
END:VEVENT
BEGIN:VEVENT
DTSTART;TZID=America/New_York:20260709T181500
DTEND;TZID=America/New_York:20260709T181500
DTSTAMP:20260422T055601
CREATED:20260303T174318Z
LAST-MODIFIED:20260303T174318Z
UID:10000134-1783620900-1783620900@aratrace.com
SUMMARY:Cedar Lake Triathlon Series #4
DESCRIPTION:Cedar Lake Triathlons are the perfect tune up for those wanting a race with a limited field. The swim is competitive but not brutal. The ride is challenging and rolling and the run is fast and flat. You will get the real race experience at an affordable price.
URL:https://aratrace.com/event/cedar-lake-triathlon-series-4-2/
LOCATION:Cedar Lake Beach\, W. Main St\, Chester\, CT\, 06412\, United States
CATEGORIES:Triathlon
GEO:41.3977647;-72.4971145
X-APPLE-STRUCTURED-LOCATION;VALUE=URI;X-ADDRESS=Cedar Lake Beach W. Main St Chester CT 06412 United States;X-APPLE-RADIUS=500;X-TITLE=W. Main St:geo:-72.4971145,41.3977647
END:VEVENT
BEGIN:VEVENT
DTSTART;TZID=America/New_York:20260718T080000
DTEND;TZID=America/New_York:20260718T080000
DTSTAMP:20260422T055601
CREATED:20260302T172902Z
LAST-MODIFIED:20260302T172902Z
UID:10000128-1784361600-1784361600@aratrace.com
SUMMARY:Run For Ryan Memorial 5K
DESCRIPTION:This is a family friendly 5K Run/Walk event in honor of Ryan French. Ryan was a resident of Thompson and a student in the Ag-Ed Program at Killingly High School. Ryan was also an avid runner on the KHS Cross Country and Track Teams. The proceeds from this race will be going into the Ryan French Memorial Scholarship Fund which provides Scholarships to well deserving Killingly Ag-Ed Seniors going onto higher education.
URL:https://aratrace.com/event/run-for-ryan-memorial-5k-3/
LOCATION:Owen Bell Park\, 580 Hartford Pike\, Dayville\, CT\, 06241\, United States
CATEGORIES:Trail Race
GEO:41.848405;-71.881989
X-APPLE-STRUCTURED-LOCATION;VALUE=URI;X-ADDRESS=Owen Bell Park 580 Hartford Pike Dayville CT 06241 United States;X-APPLE-RADIUS=500;X-TITLE=580 Hartford Pike:geo:-71.881989,41.848405
END:VEVENT
BEGIN:VEVENT
DTSTART;TZID=America/New_York:20260723T181500
DTEND;TZID=America/New_York:20260723T181500
DTSTAMP:20260422T055601
CREATED:20260303T174345Z
LAST-MODIFIED:20260303T174345Z
UID:10000135-1784830500-1784830500@aratrace.com
SUMMARY:Cedar Lake Triathlon Series #5
DESCRIPTION:Cedar Lake Triathlons are the perfect tune up for those wanting a race with a limited field. The swim is competitive but not brutal. The ride is challenging and rolling and the run is fast and flat. You will get the real race experience at an affordable price.
URL:https://aratrace.com/event/cedar-lake-triathlon-series-5-2/
LOCATION:Cedar Lake Beach\, W. Main St\, Chester\, CT\, 06412\, United States
CATEGORIES:Triathlon
GEO:41.3977647;-72.4971145
X-APPLE-STRUCTURED-LOCATION;VALUE=URI;X-ADDRESS=Cedar Lake Beach W. Main St Chester CT 06412 United States;X-APPLE-RADIUS=500;X-TITLE=W. Main St:geo:-72.4971145,41.3977647
END:VEVENT
END:VCALENDAR