BEGIN:VCALENDAR
VERSION:2.0
PRODID:-//RAT Race Timing - ECPv6.15.20//NONSGML v1.0//EN
CALSCALE:GREGORIAN
METHOD:PUBLISH
X-WR-CALNAME:RAT Race Timing
X-ORIGINAL-URL:https://aratrace.com
X-WR-CALDESC:Events for RAT Race Timing
REFRESH-INTERVAL;VALUE=DURATION:PT1H
X-Robots-Tag:noindex
X-PUBLISHED-TTL:PT1H
BEGIN:VTIMEZONE
TZID:America/New_York
BEGIN:DAYLIGHT
TZOFFSETFROM:-0500
TZOFFSETTO:-0400
TZNAME:EDT
DTSTART:20250309T070000
END:DAYLIGHT
BEGIN:STANDARD
TZOFFSETFROM:-0400
TZOFFSETTO:-0500
TZNAME:EST
DTSTART:20251102T060000
END:STANDARD
BEGIN:DAYLIGHT
TZOFFSETFROM:-0500
TZOFFSETTO:-0400
TZNAME:EDT
DTSTART:20260308T070000
END:DAYLIGHT
BEGIN:STANDARD
TZOFFSETFROM:-0400
TZOFFSETTO:-0500
TZNAME:EST
DTSTART:20261101T060000
END:STANDARD
BEGIN:DAYLIGHT
TZOFFSETFROM:-0500
TZOFFSETTO:-0400
TZNAME:EDT
DTSTART:20270314T070000
END:DAYLIGHT
BEGIN:STANDARD
TZOFFSETFROM:-0400
TZOFFSETTO:-0500
TZNAME:EST
DTSTART:20271107T060000
END:STANDARD
END:VTIMEZONE
BEGIN:VEVENT
DTSTART;TZID=America/New_York:20260919T090000
DTEND;TZID=America/New_York:20260919T090000
DTSTAMP:20260421T015508
CREATED:20241222T221214Z
LAST-MODIFIED:20241222T221214Z
UID:10000065-1789808400-1789808400@aratrace.com
SUMMARY:Bound For The Sound
DESCRIPTION:Bound for the Sound is 5k and 10k road race in Old Lyme\, CT. Both courses start at popular Sound View Beach in Old Lyme\, CT. The 10K is mostly flat with some gently rolling hills. The 5K is very flat and very fast. Both races finish down historic Hartford Avenue facing the beach.
URL:https://aratrace.com/event/bound-for-the-sound-3/
LOCATION:Bound For The Sound\, 93 Hartford Ave\, Old Lyme\, CT\, 06371\, United States
CATEGORIES:Road race
GEO:41.2849981;-72.2777327
X-APPLE-STRUCTURED-LOCATION;VALUE=URI;X-ADDRESS=Bound For The Sound 93 Hartford Ave Old Lyme CT 06371 United States;X-APPLE-RADIUS=500;X-TITLE=93 Hartford Ave:geo:-72.2777327,41.2849981
END:VEVENT
END:VCALENDAR