BEGIN:VCALENDAR
VERSION:2.0
PRODID:-//RAT Race Timing - ECPv6.15.20//NONSGML v1.0//EN
CALSCALE:GREGORIAN
METHOD:PUBLISH
X-ORIGINAL-URL:https://aratrace.com
X-WR-CALDESC:Events for RAT Race Timing
REFRESH-INTERVAL;VALUE=DURATION:PT1H
X-Robots-Tag:noindex
X-PUBLISHED-TTL:PT1H
BEGIN:VTIMEZONE
TZID:America/New_York
BEGIN:DAYLIGHT
TZOFFSETFROM:-0500
TZOFFSETTO:-0400
TZNAME:EDT
DTSTART:20230312T070000
END:DAYLIGHT
BEGIN:STANDARD
TZOFFSETFROM:-0400
TZOFFSETTO:-0500
TZNAME:EST
DTSTART:20231105T060000
END:STANDARD
BEGIN:DAYLIGHT
TZOFFSETFROM:-0500
TZOFFSETTO:-0400
TZNAME:EDT
DTSTART:20240310T070000
END:DAYLIGHT
BEGIN:STANDARD
TZOFFSETFROM:-0400
TZOFFSETTO:-0500
TZNAME:EST
DTSTART:20241103T060000
END:STANDARD
BEGIN:DAYLIGHT
TZOFFSETFROM:-0500
TZOFFSETTO:-0400
TZNAME:EDT
DTSTART:20250309T070000
END:DAYLIGHT
BEGIN:STANDARD
TZOFFSETFROM:-0400
TZOFFSETTO:-0500
TZNAME:EST
DTSTART:20251102T060000
END:STANDARD
BEGIN:DAYLIGHT
TZOFFSETFROM:-0500
TZOFFSETTO:-0400
TZNAME:EDT
DTSTART:20260308T070000
END:DAYLIGHT
BEGIN:STANDARD
TZOFFSETFROM:-0400
TZOFFSETTO:-0500
TZNAME:EST
DTSTART:20261101T060000
END:STANDARD
END:VTIMEZONE
BEGIN:VEVENT
DTSTART;TZID=America/New_York:20250816T083000
DTEND;TZID=America/New_York:20250816T083000
DTSTAMP:20260424T103725
CREATED:20240815T172332Z
LAST-MODIFIED:20240820T175048Z
UID:10000045-1755333000-1755333000@aratrace.com
SUMMARY:Conquer the Current Paddle Regatta
DESCRIPTION:The Connecticut River Museum’s Sixth annual downriver paddle regatta benefits the Museum’s education programs. \nThis is a One Way Race which begins at CT River Eagle Landing State Park Haddam and ends at Connecticut River Museum. Participants are responsible for their transport between the start / finish locations\, before or after the race. \nThis fun race/ regatta is open to all non-motorized\, safe\, and seaworthy paddle craft including but not limited to: canoes\, kayaks\, stand up/ prone paddleboards\, rowboats\, surf skis\, shells\, currach’s\, OC’s…
URL:https://aratrace.com/event/conquer-the-current-paddle-regatta-2/
LOCATION:Connecticut River Museum\, 67 Main St\, Essex\, CT\, 06426\, United States
CATEGORIES:SUP / Kayak
GEO:41.3513549;-72.3847971
X-APPLE-STRUCTURED-LOCATION;VALUE=URI;X-ADDRESS=Connecticut River Museum 67 Main St Essex CT 06426 United States;X-APPLE-RADIUS=500;X-TITLE=67 Main St:geo:-72.3847971,41.3513549
END:VEVENT
BEGIN:VEVENT
DTSTART;TZID=America/New_York:20240810T083000
DTEND;TZID=America/New_York:20240810T083000
DTSTAMP:20260424T103725
CREATED:20240322T164322Z
LAST-MODIFIED:20240322T164537Z
UID:10000017-1723278600-1723278600@aratrace.com
SUMMARY:Conquer the Current Paddle Regatta
DESCRIPTION:The Connecticut River Museum’s Sixth annual downriver paddle regatta benefits the Museum’s education programs. \nThis is a One Way Race\, Point A to Point B. Registrants must find their own rides to/from each location. \nThis fun race/ regatta is open to all non-motorized\, safe\, and seaworthy paddle craft including but not limited to: canoes\, kayaks\, stand up/ prone paddleboards\, rowboats\, surf skis\, shells\, currach’s\, OC’s…
URL:https://aratrace.com/event/conquer-the-current-paddle-regatta/
LOCATION:Connecticut River Museum\, 67 Main St\, Essex\, CT\, 06426\, United States
CATEGORIES:SUP / Kayak
GEO:41.3513549;-72.3847971
X-APPLE-STRUCTURED-LOCATION;VALUE=URI;X-ADDRESS=Connecticut River Museum 67 Main St Essex CT 06426 United States;X-APPLE-RADIUS=500;X-TITLE=67 Main St:geo:-72.3847971,41.3513549
END:VEVENT
END:VCALENDAR