BEGIN:VCALENDAR
VERSION:2.0
PRODID:-//RAT Race Timing - ECPv6.15.20//NONSGML v1.0//EN
CALSCALE:GREGORIAN
METHOD:PUBLISH
X-WR-CALNAME:RAT Race Timing
X-ORIGINAL-URL:https://aratrace.com
X-WR-CALDESC:Events for RAT Race Timing
REFRESH-INTERVAL;VALUE=DURATION:PT1H
X-Robots-Tag:noindex
X-PUBLISHED-TTL:PT1H
BEGIN:VTIMEZONE
TZID:America/New_York
BEGIN:DAYLIGHT
TZOFFSETFROM:-0500
TZOFFSETTO:-0400
TZNAME:EDT
DTSTART:20240310T070000
END:DAYLIGHT
BEGIN:STANDARD
TZOFFSETFROM:-0400
TZOFFSETTO:-0500
TZNAME:EST
DTSTART:20241103T060000
END:STANDARD
BEGIN:DAYLIGHT
TZOFFSETFROM:-0500
TZOFFSETTO:-0400
TZNAME:EDT
DTSTART:20250309T070000
END:DAYLIGHT
BEGIN:STANDARD
TZOFFSETFROM:-0400
TZOFFSETTO:-0500
TZNAME:EST
DTSTART:20251102T060000
END:STANDARD
BEGIN:DAYLIGHT
TZOFFSETFROM:-0500
TZOFFSETTO:-0400
TZNAME:EDT
DTSTART:20260308T070000
END:DAYLIGHT
BEGIN:STANDARD
TZOFFSETFROM:-0400
TZOFFSETTO:-0500
TZNAME:EST
DTSTART:20261101T060000
END:STANDARD
END:VTIMEZONE
BEGIN:VEVENT
DTSTART;TZID=America/New_York:20250525T083000
DTEND;TZID=America/New_York:20250525T170000
DTSTAMP:20260420T224903
CREATED:20250106T024018Z
LAST-MODIFIED:20250106T024130Z
UID:10000068-1748161800-1748192400@aratrace.com
SUMMARY:Mine Hill Half Marathon
DESCRIPTION:Are you ready for the toughest road half marathon in Connecticut?! The Mine Hill Half Marathon is one of the most beautiful\, yet breathtaking (both visually and physically!) races you will run!
URL:https://aratrace.com/event/mine-hill-half-marathon/
LOCATION:Mine Hill Distillery\, 5 Mine Hill Rd\, Roxbury\, CT\, 06783\, United States
CATEGORIES:Road race
GEO:41.5578073;-73.3323829
X-APPLE-STRUCTURED-LOCATION;VALUE=URI;X-ADDRESS=Mine Hill Distillery 5 Mine Hill Rd Roxbury CT 06783 United States;X-APPLE-RADIUS=500;X-TITLE=5 Mine Hill Rd:geo:-73.3323829,41.5578073
END:VEVENT
BEGIN:VEVENT
DTSTART;TZID=America/New_York:20250525T080000
DTEND;TZID=America/New_York:20250525T080000
DTSTAMP:20260420T224903
CREATED:20250106T024327Z
LAST-MODIFIED:20250106T024327Z
UID:10000069-1748160000-1748160000@aratrace.com
SUMMARY:Mine Hill Gravel Challenge
DESCRIPTION:The Mine Hill Gravel Challenge is one of the most beautiful\, yet breathtaking races you will ride! You will experience sweeping country views past farms\, fields\, and vistas
URL:https://aratrace.com/event/mine-hill-gravel-challenge/
LOCATION:Mine Hill Distillery\, 5 Mine Hill Rd\, Roxbury\, CT\, 06783\, United States
CATEGORIES:Gravel Bike
GEO:41.5578073;-73.3323829
X-APPLE-STRUCTURED-LOCATION;VALUE=URI;X-ADDRESS=Mine Hill Distillery 5 Mine Hill Rd Roxbury CT 06783 United States;X-APPLE-RADIUS=500;X-TITLE=5 Mine Hill Rd:geo:-73.3323829,41.5578073
END:VEVENT
END:VCALENDAR