BEGIN:VCALENDAR
VERSION:2.0
PRODID:-//RAT Race Timing - ECPv6.15.20//NONSGML v1.0//EN
CALSCALE:GREGORIAN
METHOD:PUBLISH
X-WR-CALNAME:RAT Race Timing
X-ORIGINAL-URL:https://aratrace.com
X-WR-CALDESC:Events for RAT Race Timing
REFRESH-INTERVAL;VALUE=DURATION:PT1H
X-Robots-Tag:noindex
X-PUBLISHED-TTL:PT1H
BEGIN:VTIMEZONE
TZID:America/New_York
BEGIN:DAYLIGHT
TZOFFSETFROM:-0500
TZOFFSETTO:-0400
TZNAME:EDT
DTSTART:20230312T070000
END:DAYLIGHT
BEGIN:STANDARD
TZOFFSETFROM:-0400
TZOFFSETTO:-0500
TZNAME:EST
DTSTART:20231105T060000
END:STANDARD
BEGIN:DAYLIGHT
TZOFFSETFROM:-0500
TZOFFSETTO:-0400
TZNAME:EDT
DTSTART:20240310T070000
END:DAYLIGHT
BEGIN:STANDARD
TZOFFSETFROM:-0400
TZOFFSETTO:-0500
TZNAME:EST
DTSTART:20241103T060000
END:STANDARD
BEGIN:DAYLIGHT
TZOFFSETFROM:-0500
TZOFFSETTO:-0400
TZNAME:EDT
DTSTART:20250309T070000
END:DAYLIGHT
BEGIN:STANDARD
TZOFFSETFROM:-0400
TZOFFSETTO:-0500
TZNAME:EST
DTSTART:20251102T060000
END:STANDARD
BEGIN:DAYLIGHT
TZOFFSETFROM:-0500
TZOFFSETTO:-0400
TZNAME:EDT
DTSTART:20260308T070000
END:DAYLIGHT
BEGIN:STANDARD
TZOFFSETFROM:-0400
TZOFFSETTO:-0500
TZNAME:EST
DTSTART:20261101T060000
END:STANDARD
END:VTIMEZONE
BEGIN:VEVENT
DTSTART;TZID=America/New_York:20250921T093000
DTEND;TZID=America/New_York:20250921T093000
DTSTAMP:20260424T103109
CREATED:20241123T215249Z
LAST-MODIFIED:20241123T215249Z
UID:10000057-1758447000-1758447000@aratrace.com
SUMMARY:Summit Run 5K
DESCRIPTION:A 5K like no other. The first mile is a slight incline that will take you through the Hockanum Village and its historic homes with bucolic scenery. After that the course turns onto the dirt section of Old Mountain Road before things get even more scenic\, and steeper as you climb 800 feet on the paved road to the summit finish line at the top of Mt. Holyoke.
URL:https://aratrace.com/event/summit-run-5k-2/
LOCATION:Skinner State Park\, 10 Skinner State Park Rd\, Hadley\, MA\, 01035\, United States
CATEGORIES:Road race
GEO:42.300505;-72.587695
X-APPLE-STRUCTURED-LOCATION;VALUE=URI;X-ADDRESS=Skinner State Park 10 Skinner State Park Rd Hadley MA 01035 United States;X-APPLE-RADIUS=500;X-TITLE=10 Skinner State Park Rd:geo:-72.587695,42.300505
END:VEVENT
BEGIN:VEVENT
DTSTART;TZID=America/New_York:20240922T093000
DTEND;TZID=America/New_York:20240922T093000
DTSTAMP:20260424T103109
CREATED:20240408T192243Z
LAST-MODIFIED:20240408T194826Z
UID:10000030-1726997400-1726997400@aratrace.com
SUMMARY:Summit Run 5K
DESCRIPTION:A 5K like no other. The first mile is a slight incline that will take you through the Hockanum Village and its historic homes with bucolic scenery. After that the course turns onto the dirt section of Old Mountain Road before things get even more scenic\, and steeper as you climb 800 feet on the paved road to the summit finish line at the top of Mt. Holyoke.
URL:https://aratrace.com/event/summit-run-5k/
LOCATION:Skinner State Park\, 10 Skinner State Park Rd\, Hadley\, MA\, 01035\, United States
CATEGORIES:Road race
GEO:42.300505;-72.587695
X-APPLE-STRUCTURED-LOCATION;VALUE=URI;X-ADDRESS=Skinner State Park 10 Skinner State Park Rd Hadley MA 01035 United States;X-APPLE-RADIUS=500;X-TITLE=10 Skinner State Park Rd:geo:-72.587695,42.300505
END:VEVENT
END:VCALENDAR